BEGIN:VCALENDAR
VERSION:2.0
PRODID:-//wp-events-plugin.com//7.2.3.1//EN
TZID:Europe/Berlin
X-WR-TIMEZONE:Europe/Berlin
BEGIN:VEVENT
UID:13@altopiano.de
DTSTART;TZID=Europe/Berlin:20260509T190000
DTEND;TZID=Europe/Berlin:20260509T210000
DTSTAMP:20251015T151613Z
URL:https://altopiano.de/konzert/franzoesische-nacht-klaenge-unterm-sterne
 nhimmel/
SUMMARY:Französische Nacht - Klänge unterm Sternenhimmel
DESCRIPTION:Werke von Francis Poulenc\, Henri Dutilleux\, Jean-Michel Damas
 e und weitere als Überraschung für das Publikum\n\nMutsumi Ito\, Flöte\
 nShinnosuke Inugai\, Klavier
LOCATION:Schloss Malberg\, Schlossstraße 45\, Malberg\, 54655\, Deutschlan
 d
X-APPLE-STRUCTURED-LOCATION;VALUE=URI;X-ADDRESS=Schlossstraße 45\, Malberg
 \, 54655\, Deutschland;X-APPLE-RADIUS=100;X-TITLE=Schloss Malberg:geo:0,0
END:VEVENT
BEGIN:VTIMEZONE
TZID:Europe/Berlin
X-LIC-LOCATION:Europe/Berlin
BEGIN:DAYLIGHT
DTSTART:20260329T030000
TZOFFSETFROM:+0100
TZOFFSETTO:+0200
TZNAME:CEST
END:DAYLIGHT
END:VTIMEZONE
END:VCALENDAR