BEGIN:VCALENDAR
VERSION:2.0
PRODID:-//wp-events-plugin.com//7.2.3.1//EN
TZID:Europe/Berlin
X-WR-TIMEZONE:Europe/Berlin
BEGIN:VEVENT
UID:7@altopiano.de
DTSTART;TZID=Europe/Berlin:20250510T190000
DTEND;TZID=Europe/Berlin:20250510T190000
DTSTAMP:20250909T183721Z
URL:https://altopiano.de/konzert/viva-espana-2/
SUMMARY:Viva España
DESCRIPTION:Mutsumi Ito\, Flöte\nShinnosuke Inugai\, Klavier\n\nProgramm w
 ie in der Festeburgkirche am 2.6.2024
LOCATION:Schloss Malberg\, Schlossstraße 45\, Malberg\, 54655\, Deutschlan
 d
X-APPLE-STRUCTURED-LOCATION;VALUE=URI;X-ADDRESS=Schlossstraße 45\, Malberg
 \, 54655\, Deutschland;X-APPLE-RADIUS=100;X-TITLE=Schloss Malberg:geo:0,0
END:VEVENT
BEGIN:VTIMEZONE
TZID:Europe/Berlin
X-LIC-LOCATION:Europe/Berlin
BEGIN:DAYLIGHT
DTSTART:20250330T030000
TZOFFSETFROM:+0100
TZOFFSETTO:+0200
TZNAME:CEST
END:DAYLIGHT
END:VTIMEZONE
END:VCALENDAR